BEGIN:VCALENDAR
VERSION:2.0
PRODID:-//Hisse et Haut - ECPv5.9.2//NONSGML v1.0//EN
CALSCALE:GREGORIAN
METHOD:PUBLISH
X-WR-CALNAME:Hisse et Haut
X-ORIGINAL-URL:https://hisse-et-haut.fr
X-WR-CALDESC:évènements pour Hisse et Haut
BEGIN:VTIMEZONE
TZID:Europe/Paris
BEGIN:DAYLIGHT
TZOFFSETFROM:+0100
TZOFFSETTO:+0200
TZNAME:CEST
DTSTART:20240331T010000
END:DAYLIGHT
BEGIN:STANDARD
TZOFFSETFROM:+0200
TZOFFSETTO:+0100
TZNAME:CET
DTSTART:20241027T010000
END:STANDARD
END:VTIMEZONE
BEGIN:VEVENT
DTSTART;TZID=Europe/Paris:20241204T093000
DTEND;TZID=Europe/Paris:20241204T101500
DTSTAMP:20260420T105537
CREATED:20241112T091448Z
LAST-MODIFIED:20241112T091448Z
UID:9294-1733304600-1733307300@hisse-et-haut.fr
SUMMARY:Mais au fait\, c'est quoi la culture d'entreprise ?
DESCRIPTION:On l’imagine\, on la façonne intuitivement\, on l’expérimente et on l’affine au fil des années en tant que dirigeant·e ou membre du codir. \nBref\, on en entend aussi parler sans savoir bien parfois ce qu’elle est\, comment elle se construit\, avec ses bénéfices et ses inconvénients… \nMais quels sont les secrets de la culture d’entreprise ? \n  \n➡️ On vous invite à défricher avec nous ce terme bien galvaudé – certes \, mais Ô combien impactant pour développer une robuste marque employeur et un engagement durable dans les équipes ! \n🏷️Pour s’inscrire\, c’est par ici 
URL:https://hisse-et-haut.fr/evenement/mais-au-fait-cest-quoi-la-culture-dentreprise-2
LOCATION:100% à distance
ATTACH;FMTTYPE=image/jpeg:https://hisse-et-haut.fr/wp-content/uploads/2024/09/yes-e1726484333128.jpg
END:VEVENT
END:VCALENDAR